BEGIN:VCALENDAR
VERSION:2.0
PRODID:-//Turistička Organizacija Zaječar - ECPv6.15.20//NONSGML v1.0//EN
CALSCALE:GREGORIAN
METHOD:PUBLISH
X-WR-CALNAME:Turistička Organizacija Zaječar
X-ORIGINAL-URL:https://tozajecar.rs
X-WR-CALDESC:Events for Turistička Organizacija Zaječar
REFRESH-INTERVAL;VALUE=DURATION:PT1H
X-Robots-Tag:noindex
X-PUBLISHED-TTL:PT1H
BEGIN:VTIMEZONE
TZID:Europe/Belgrade
BEGIN:DAYLIGHT
TZOFFSETFROM:+0100
TZOFFSETTO:+0200
TZNAME:CEST
DTSTART:20250330T010000
END:DAYLIGHT
BEGIN:STANDARD
TZOFFSETFROM:+0200
TZOFFSETTO:+0100
TZNAME:CET
DTSTART:20251026T010000
END:STANDARD
BEGIN:DAYLIGHT
TZOFFSETFROM:+0100
TZOFFSETTO:+0200
TZNAME:CEST
DTSTART:20260329T010000
END:DAYLIGHT
BEGIN:STANDARD
TZOFFSETFROM:+0200
TZOFFSETTO:+0100
TZNAME:CET
DTSTART:20261025T010000
END:STANDARD
BEGIN:DAYLIGHT
TZOFFSETFROM:+0100
TZOFFSETTO:+0200
TZNAME:CEST
DTSTART:20270328T010000
END:DAYLIGHT
BEGIN:STANDARD
TZOFFSETFROM:+0200
TZOFFSETTO:+0100
TZNAME:CET
DTSTART:20271031T010000
END:STANDARD
END:VTIMEZONE
BEGIN:VEVENT
DTSTART;TZID=Europe/Belgrade:20260219T080000
DTEND;TZID=Europe/Belgrade:20260222T180000
DTSTAMP:20260420T221753
CREATED:20260220T082321Z
LAST-MODIFIED:20260220T082402Z
UID:2850-1771488000-1771783200@tozajecar.rs
SUMMARY:„JEDNO PUTOVANJE\, HILJADU PRIČA” – ZAJEČAR NA 47. MEĐUNARODNOM SAJMU TURIZMA U BEOGRADU!
DESCRIPTION:Turistička organizacija grada Zaječara učestvuje na 47. Međunarodnom sajmu turizma u Beogradu\, koji se održava od 19. do 22. februara 2026. godine.\n\n\n Hala 4 – štand Turističke organizacije grada Zaječara\n Radno vreme sajma: 10.00–19.00 časova (nedelja do 18.00)\n\n\nTokom sva četiri dana sajma predstavljamo turističke potencijale grada – carsku palatu Feliks Romulijanu (koja se nalazi na listi svetske baštine pod zaštitom Uneska)\, „Gitarijadu” – najstariju rok manifestaciju u Evropi\, manifestacije\, kulturno-istorijsku rutu „Stazama Hajduk Veljka”\, kao i kompletnu ponudu Zaječara.\n\n\n POSEBNO VAS POZIVAMO:\n Subota\, 21. februar\n 13.00 časova\n Prezentacija i promocija grada Zaječara na našem štandu\n\n\nOčekuje vas savremena i inspirativna prezentacija – možda baš tu započne vaše sledeće putovanje!\n\n\nVidimo se na sajmu!\n\n\n#TOZaječar #Zaječar #SajamTurizma #FelixRomuliana #Gitarijada
URL:https://tozajecar.rs/event/jedno-putovanje-hiljadu-prica-zajecar-na-47-medjunarodnom-sajmu-turizma-u-beogradu/
LOCATION:Beogradski sajam\, Bulevar vojvode Mišića 14\, Beograd\, 11040\, Serbia
CATEGORIES:Manifestacija
ATTACH;FMTTYPE=image/jpeg:https://tozajecar.rs/wp-content/uploads/2026/02/637206029-1327118839438156-2347749429399291460-n.jpg
END:VEVENT
END:VCALENDAR