BEGIN:VCALENDAR
VERSION:2.0
PRODID:-//Turistička Organizacija Zaječar - ECPv6.15.20//NONSGML v1.0//EN
CALSCALE:GREGORIAN
METHOD:PUBLISH
X-ORIGINAL-URL:https://tozajecar.rs
X-WR-CALDESC:Events for Turistička Organizacija Zaječar
REFRESH-INTERVAL;VALUE=DURATION:PT1H
X-Robots-Tag:noindex
X-PUBLISHED-TTL:PT1H
BEGIN:VTIMEZONE
TZID:Europe/Belgrade
BEGIN:DAYLIGHT
TZOFFSETFROM:+0100
TZOFFSETTO:+0200
TZNAME:CEST
DTSTART:20240331T010000
END:DAYLIGHT
BEGIN:STANDARD
TZOFFSETFROM:+0200
TZOFFSETTO:+0100
TZNAME:CET
DTSTART:20241027T010000
END:STANDARD
BEGIN:DAYLIGHT
TZOFFSETFROM:+0100
TZOFFSETTO:+0200
TZNAME:CEST
DTSTART:20250330T010000
END:DAYLIGHT
BEGIN:STANDARD
TZOFFSETFROM:+0200
TZOFFSETTO:+0100
TZNAME:CET
DTSTART:20251026T010000
END:STANDARD
BEGIN:DAYLIGHT
TZOFFSETFROM:+0100
TZOFFSETTO:+0200
TZNAME:CEST
DTSTART:20260329T010000
END:DAYLIGHT
BEGIN:STANDARD
TZOFFSETFROM:+0200
TZOFFSETTO:+0100
TZNAME:CET
DTSTART:20261025T010000
END:STANDARD
END:VTIMEZONE
BEGIN:VEVENT
DTSTART;VALUE=DATE:20250904
DTEND;VALUE=DATE:20250907
DTSTAMP:20260421T070423
CREATED:20250827T092631Z
LAST-MODIFIED:20250827T092631Z
UID:2716-1756944000-1757203199@tozajecar.rs
SUMMARY:5. GASTRO KARAVAN I JESENJI BAZAR
DESCRIPTION:U periodu od 4. do 6. septembra\, na gradskom trgu u Zaječaru\, biće organizovani Gastro karavan i jesenji bazar. \nGastro karavan je poseban događaj okuplja majstore kuhinje iz svih krajeva Srbije\, pružajući priliku da posetioci manifestacije probaju najrazličitije ukuse i mirise naše bogate kulinarske tradicije. \nNa karavnu će biti dodeljena priznanja najboljima – biće proglašeni kralj i kraljica karavana\, naj-specijalitet\, naj-slatkiš\, naj-kreativnija maska\, abiće uručene i druge nagrade. \nDomaćini Gastro karavana su Grad Zaječar i Turistička organizacija grada.
URL:https://tozajecar.rs/event/5-gastro-karavan-i-jesenji-bazar/
LOCATION:Trg Oslobođenja\, Trg Oslobođenja\, Zaječar\, Srbija\, 19000\, Srbija
CATEGORIES:Manifestacija
ATTACH;FMTTYPE=image/png:https://tozajecar.rs/wp-content/uploads/2025/08/514270101-1180244604125581-7640098096988411928-n.png
ORGANIZER;CN="Turisti%C4%8Dka organizacija grada Zaje%C4%8Dara":MAILTO:turisticka.zajecar@gmail.com
END:VEVENT
END:VCALENDAR